BEGIN:VCALENDAR
VERSION:2.0
PRODID:-//PBACCA - ECPv6.15.20//NONSGML v1.0//EN
CALSCALE:GREGORIAN
METHOD:PUBLISH
X-WR-CALNAME:PBACCA
X-ORIGINAL-URL:https://pbacca.org
X-WR-CALDESC:Events for PBACCA
REFRESH-INTERVAL;VALUE=DURATION:PT1H
X-Robots-Tag:noindex
X-PUBLISHED-TTL:PT1H
BEGIN:VTIMEZONE
TZID:America/New_York
BEGIN:DAYLIGHT
TZOFFSETFROM:-0500
TZOFFSETTO:-0400
TZNAME:EDT
DTSTART:20190310T070000
END:DAYLIGHT
BEGIN:STANDARD
TZOFFSETFROM:-0400
TZOFFSETTO:-0500
TZNAME:EST
DTSTART:20191103T060000
END:STANDARD
BEGIN:DAYLIGHT
TZOFFSETFROM:-0500
TZOFFSETTO:-0400
TZNAME:EDT
DTSTART:20200308T070000
END:DAYLIGHT
BEGIN:STANDARD
TZOFFSETFROM:-0400
TZOFFSETTO:-0500
TZNAME:EST
DTSTART:20201101T060000
END:STANDARD
BEGIN:DAYLIGHT
TZOFFSETFROM:-0500
TZOFFSETTO:-0400
TZNAME:EDT
DTSTART:20210314T070000
END:DAYLIGHT
BEGIN:STANDARD
TZOFFSETFROM:-0400
TZOFFSETTO:-0500
TZNAME:EST
DTSTART:20211107T060000
END:STANDARD
BEGIN:DAYLIGHT
TZOFFSETFROM:-0500
TZOFFSETTO:-0400
TZNAME:EDT
DTSTART:20220313T070000
END:DAYLIGHT
BEGIN:STANDARD
TZOFFSETFROM:-0400
TZOFFSETTO:-0500
TZNAME:EST
DTSTART:20221106T060000
END:STANDARD
BEGIN:DAYLIGHT
TZOFFSETFROM:-0500
TZOFFSETTO:-0400
TZNAME:EDT
DTSTART:20230312T070000
END:DAYLIGHT
BEGIN:STANDARD
TZOFFSETFROM:-0400
TZOFFSETTO:-0500
TZNAME:EST
DTSTART:20231105T060000
END:STANDARD
END:VTIMEZONE
BEGIN:VEVENT
DTSTART;TZID=America/New_York:20220108T180000
DTEND;TZID=America/New_York:20220108T220000
DTSTAMP:20260422T153056
CREATED:20201113T183716Z
LAST-MODIFIED:20211228T164224Z
UID:607-1641664800-1641679200@pbacca.org
SUMMARY:Canceled -2022 Installation Banquet
DESCRIPTION:This event has been canceled. \nJoin us in welcoming our incoming slate of 2022 Officers and to thank those that have served during 2021. Enjoy an evening with your friends and peers with fine food and entertainment at the beautiful Benvenuto Restaurant. \nHAPPY HOUR SPONSORED BY AL PACKER FORD. \nEnjoy entertainment provided by “The Promises”60’s Soul & Motown Music. https://www.thepromisesband.com/. \nENTERTAINMENT SPONSORED BY FEDERATED INSURANCE- \nMake your reservations now! \nInstallation Banquet Invitation and Reservation  Form
URL:https://pbacca.org/event/installation-banquet-2/
LOCATION:Benvenuto\, 1730 North Federal Highway\, Boynton\, FL\, United States
CATEGORIES:Banquet
ATTACH;FMTTYPE=image/jpeg:https://pbacca.org/wp-content/uploads/2020/11/Installation-2021.jpg
ORGANIZER;CN="PBACCA":MAILTO:alexalee@pbacca.org
END:VEVENT
BEGIN:VEVENT
DTSTART;TZID=America/New_York:20200111T180000
DTEND;TZID=America/New_York:20200111T220000
DTSTAMP:20260422T153056
CREATED:20200210T175004Z
LAST-MODIFIED:20200210T175449Z
UID:251-1578765600-1578780000@pbacca.org
SUMMARY:Installation Banquet
DESCRIPTION:
URL:https://pbacca.org/event/installation-banquet/
LOCATION:Benvenuto\, 1730 North Federal Highway\, Boynton\, FL\, United States
CATEGORIES:Banquet
ATTACH;FMTTYPE=image/jpeg:https://pbacca.org/wp-content/uploads/2020/02/banquet.jpg
END:VEVENT
END:VCALENDAR