BEGIN:VCALENDAR
VERSION:2.0
PRODID:-//PBACCA - ECPv6.15.20//NONSGML v1.0//EN
CALSCALE:GREGORIAN
METHOD:PUBLISH
X-WR-CALNAME:PBACCA
X-ORIGINAL-URL:https://pbacca.org
X-WR-CALDESC:Events for PBACCA
REFRESH-INTERVAL;VALUE=DURATION:PT1H
X-Robots-Tag:noindex
X-PUBLISHED-TTL:PT1H
BEGIN:VTIMEZONE
TZID:America/New_York
BEGIN:DAYLIGHT
TZOFFSETFROM:-0500
TZOFFSETTO:-0400
TZNAME:EDT
DTSTART:20190310T070000
END:DAYLIGHT
BEGIN:STANDARD
TZOFFSETFROM:-0400
TZOFFSETTO:-0500
TZNAME:EST
DTSTART:20191103T060000
END:STANDARD
BEGIN:DAYLIGHT
TZOFFSETFROM:-0500
TZOFFSETTO:-0400
TZNAME:EDT
DTSTART:20200308T070000
END:DAYLIGHT
BEGIN:STANDARD
TZOFFSETFROM:-0400
TZOFFSETTO:-0500
TZNAME:EST
DTSTART:20201101T060000
END:STANDARD
BEGIN:DAYLIGHT
TZOFFSETFROM:-0500
TZOFFSETTO:-0400
TZNAME:EDT
DTSTART:20210314T070000
END:DAYLIGHT
BEGIN:STANDARD
TZOFFSETFROM:-0400
TZOFFSETTO:-0500
TZNAME:EST
DTSTART:20211107T060000
END:STANDARD
END:VTIMEZONE
BEGIN:VEVENT
DTSTART;TZID=America/New_York:20201105T120000
DTEND;TZID=America/New_York:20201105T170000
DTSTAMP:20260422T152634
CREATED:20200210T185259Z
LAST-MODIFIED:20201104T194137Z
UID:282-1604577600-1604595600@pbacca.org
SUMMARY:Board Meeting
DESCRIPTION:Board Meeting via Zoom at Noon.
URL:https://pbacca.org/event/board-meeting-nov-5-2020/
LOCATION:Zoom Meeting
CATEGORIES:Board Meeting
ATTACH;FMTTYPE=image/jpeg:https://pbacca.org/wp-content/uploads/2020/01/board-meeting.jpg
END:VEVENT
BEGIN:VEVENT
DTSTART;TZID=America/New_York:20200903T173000
DTEND;TZID=America/New_York:20200903T220000
DTSTAMP:20260422T152634
CREATED:20200210T184956Z
LAST-MODIFIED:20200212T121252Z
UID:278-1599154200-1599170400@pbacca.org
SUMMARY:Board Meeting
DESCRIPTION:
URL:https://pbacca.org/event/board-meeting-sep-3-2020/
LOCATION:EDS Air Conditioning & Plumbing\, 2200 4th Ave N # 1\, Lake Worth\, FL\, 33461\, United States
CATEGORIES:Board Meeting
ATTACH;FMTTYPE=image/jpeg:https://pbacca.org/wp-content/uploads/2020/01/board-meeting.jpg
END:VEVENT
BEGIN:VEVENT
DTSTART;TZID=America/New_York:20200702T173000
DTEND;TZID=America/New_York:20200702T220000
DTSTAMP:20260422T152634
CREATED:20200210T184704Z
LAST-MODIFIED:20200212T121221Z
UID:274-1593711000-1593727200@pbacca.org
SUMMARY:Board Meeting
DESCRIPTION:
URL:https://pbacca.org/event/board-meeting-jul-2-2020/
LOCATION:EDS Air Conditioning & Plumbing\, 2200 4th Ave N # 1\, Lake Worth\, FL\, 33461\, United States
CATEGORIES:Board Meeting
ATTACH;FMTTYPE=image/jpeg:https://pbacca.org/wp-content/uploads/2020/01/board-meeting.jpg
END:VEVENT
BEGIN:VEVENT
DTSTART;TZID=America/New_York:20200507T173000
DTEND;TZID=America/New_York:20200507T220000
DTSTAMP:20260422T152634
CREATED:20200210T183912Z
LAST-MODIFIED:20200212T121324Z
UID:266-1588872600-1588888800@pbacca.org
SUMMARY:Board Meeting
DESCRIPTION:
URL:https://pbacca.org/event/board-meeting-may-7-2020/
LOCATION:EDS Air Conditioning & Plumbing\, 2200 4th Ave N # 1\, Lake Worth\, FL\, 33461\, United States
CATEGORIES:Board Meeting
ATTACH;FMTTYPE=image/jpeg:https://pbacca.org/wp-content/uploads/2020/01/board-meeting.jpg
END:VEVENT
BEGIN:VEVENT
DTSTART;TZID=America/New_York:20200109T173000
DTEND;TZID=America/New_York:20200109T203000
DTSTAMP:20260422T152634
CREATED:20200105T082520Z
LAST-MODIFIED:20200212T121356Z
UID:207-1578591000-1578601800@pbacca.org
SUMMARY:Board Meeting
DESCRIPTION:
URL:https://pbacca.org/event/board-meeting-jan-9-2020/
LOCATION:EDS Air Conditioning & Plumbing\, 2200 4th Ave N # 1\, Lake Worth\, FL\, 33461\, United States
CATEGORIES:Board Meeting
ATTACH;FMTTYPE=image/jpeg:https://pbacca.org/wp-content/uploads/2020/01/board-meeting.jpg
ORGANIZER;CN="PBACCA":MAILTO:alexalee@pbacca.org
END:VEVENT
END:VCALENDAR