BEGIN:VCALENDAR
VERSION:2.0
PRODID:-//PBACCA - ECPv6.15.20//NONSGML v1.0//EN
CALSCALE:GREGORIAN
METHOD:PUBLISH
X-ORIGINAL-URL:https://pbacca.org
X-WR-CALDESC:Events for PBACCA
REFRESH-INTERVAL;VALUE=DURATION:PT1H
X-Robots-Tag:noindex
X-PUBLISHED-TTL:PT1H
BEGIN:VTIMEZONE
TZID:America/New_York
BEGIN:DAYLIGHT
TZOFFSETFROM:-0500
TZOFFSETTO:-0400
TZNAME:EDT
DTSTART:20190310T070000
END:DAYLIGHT
BEGIN:STANDARD
TZOFFSETFROM:-0400
TZOFFSETTO:-0500
TZNAME:EST
DTSTART:20191103T060000
END:STANDARD
BEGIN:DAYLIGHT
TZOFFSETFROM:-0500
TZOFFSETTO:-0400
TZNAME:EDT
DTSTART:20200308T070000
END:DAYLIGHT
BEGIN:STANDARD
TZOFFSETFROM:-0400
TZOFFSETTO:-0500
TZNAME:EST
DTSTART:20201101T060000
END:STANDARD
BEGIN:DAYLIGHT
TZOFFSETFROM:-0500
TZOFFSETTO:-0400
TZNAME:EDT
DTSTART:20210314T070000
END:DAYLIGHT
BEGIN:STANDARD
TZOFFSETFROM:-0400
TZOFFSETTO:-0500
TZNAME:EST
DTSTART:20211107T060000
END:STANDARD
BEGIN:DAYLIGHT
TZOFFSETFROM:-0500
TZOFFSETTO:-0400
TZNAME:EDT
DTSTART:20220313T070000
END:DAYLIGHT
BEGIN:STANDARD
TZOFFSETFROM:-0400
TZOFFSETTO:-0500
TZNAME:EST
DTSTART:20221106T060000
END:STANDARD
BEGIN:DAYLIGHT
TZOFFSETFROM:-0500
TZOFFSETTO:-0400
TZNAME:EDT
DTSTART:20230312T070000
END:DAYLIGHT
BEGIN:STANDARD
TZOFFSETFROM:-0400
TZOFFSETTO:-0500
TZNAME:EST
DTSTART:20231105T060000
END:STANDARD
BEGIN:DAYLIGHT
TZOFFSETFROM:-0500
TZOFFSETTO:-0400
TZNAME:EDT
DTSTART:20240310T070000
END:DAYLIGHT
BEGIN:STANDARD
TZOFFSETFROM:-0400
TZOFFSETTO:-0500
TZNAME:EST
DTSTART:20241103T060000
END:STANDARD
BEGIN:DAYLIGHT
TZOFFSETFROM:-0500
TZOFFSETTO:-0400
TZNAME:EDT
DTSTART:20250309T070000
END:DAYLIGHT
BEGIN:STANDARD
TZOFFSETFROM:-0400
TZOFFSETTO:-0500
TZNAME:EST
DTSTART:20251102T060000
END:STANDARD
BEGIN:DAYLIGHT
TZOFFSETFROM:-0500
TZOFFSETTO:-0400
TZNAME:EDT
DTSTART:20260308T070000
END:DAYLIGHT
BEGIN:STANDARD
TZOFFSETFROM:-0400
TZOFFSETTO:-0500
TZNAME:EST
DTSTART:20261101T060000
END:STANDARD
END:VTIMEZONE
BEGIN:VEVENT
DTSTART;TZID=America/New_York:20250605T183000
DTEND;TZID=America/New_York:20250605T183000
DTSTAMP:20260422T083114
CREATED:20250507T184913Z
LAST-MODIFIED:20250507T185712Z
UID:1617-1749148200-1749148200@pbacca.org
SUMMARY:Boosting Productivity and Profit with Video Inspections
DESCRIPTION:
URL:https://pbacca.org/event/1617/
LOCATION:Stadium Grill\, 1203 Town Centre Dr.\, Jupiter\, FL\, 33458\, United States
CATEGORIES:General Meeting
ATTACH;FMTTYPE=image/jpeg:https://pbacca.org/wp-content/uploads/2025/03/General-Meeting.jpg
ORGANIZER;CN="PBACCA":MAILTO:alexalee@pbacca.org
END:VEVENT
BEGIN:VEVENT
DTSTART;TZID=America/New_York:20250403T183000
DTEND;TZID=America/New_York:20250403T183000
DTSTAMP:20260422T083114
CREATED:20250328T201255Z
LAST-MODIFIED:20250328T201709Z
UID:1583-1743705000-1743705000@pbacca.org
SUMMARY:General Meeting April 2025
DESCRIPTION:
URL:https://pbacca.org/event/general-meeting-april-2025/
LOCATION:Stadium Grill\, 1203 Town Centre Dr.\, Jupiter\, FL\, 33458\, United States
CATEGORIES:General Meeting
ATTACH;FMTTYPE=image/jpeg:https://pbacca.org/wp-content/uploads/2025/03/General-Meeting.jpg
ORGANIZER;CN="PBACCA":MAILTO:alexalee@pbacca.org
END:VEVENT
BEGIN:VEVENT
DTSTART;TZID=America/New_York:20240801T180000
DTEND;TZID=America/New_York:20240801T180000
DTSTAMP:20260422T083114
CREATED:20240716T125117Z
LAST-MODIFIED:20240805T140223Z
UID:1451-1722535200-1722535200@pbacca.org
SUMMARY:Florida Air Conditioning Apprenticeship Graduation and General Meeting
DESCRIPTION:
URL:https://pbacca.org/event/florida-air-conditioning-apprenticeship-graduation-and-general-meeting/
LOCATION:Lake Worth Beach Club\, One 7th Avenue North\, Lake Worth\, FL\, 33460\, United States
CATEGORIES:Apprentice Graduation,General Meeting
ATTACH;FMTTYPE=image/jpeg:https://pbacca.org/wp-content/uploads/2024/07/Graduation-Dinner.jpg
END:VEVENT
BEGIN:VEVENT
DTSTART;TZID=America/New_York:20240404T173000
DTEND;TZID=America/New_York:20240404T173000
DTSTAMP:20260422T083114
CREATED:20240222T203308Z
LAST-MODIFIED:20240222T204045Z
UID:1332-1712251800-1712251800@pbacca.org
SUMMARY:General Meeting April 4th 2024
DESCRIPTION: 
URL:https://pbacca.org/event/1332/
LOCATION:The Beach Club\, One 7th Avenue North\, Lake Worth\, FL\, 33469\, United States
CATEGORIES:General Meeting
ATTACH;FMTTYPE=image/jpeg:https://pbacca.org/wp-content/uploads/2020/02/pbacca-general-meeting.jpg
ORGANIZER;CN="PBACCA":MAILTO:alexalee@pbacca.org
END:VEVENT
BEGIN:VEVENT
DTSTART;TZID=America/New_York:20231005T170000
DTEND;TZID=America/New_York:20231005T170000
DTSTAMP:20260422T083114
CREATED:20230911T142357Z
LAST-MODIFIED:20230911T142916Z
UID:1223-1696525200-1696525200@pbacca.org
SUMMARY:PBACCA General Meeting
DESCRIPTION:PBACCA General Meeting\nOctober 5\, 2023\n“The Beach Club” in Lake Worth Beach\nProgram Speaker: Jeff West of Lennox\nDew Point / Sweating Ducts\n\nDamage caused by sweating ducts \nJeff West\, the local Field Technical Consultant for Lennox Industries\, is providing information on our summertime phenomenon of “sweating ducts” More specifically why ducts and air handlers condensate in the attic or unconditioned spaces. Jeff will discuss dew point\, the cause of the condensation and some of the remedies to improve this situation. \nJeff is a Graduate of RETS technical institute in 1985 and has been working in our field since 1986. He has been a small business owner from 1987-1991. He has worked at Johnstone supply as counter sales / store manager from 1992- 1997 and for the past 26 years he has been a Lennox Field Technical Consultant. \nYour PBACCA is proud to host this event and we are looking forward to seeing you there! \nReservations are required\nReservation deadline Monday Oct 2\, 5:00pm\nThursday\, October 5th “The Beach Club”\nOne 7th Avenue North\, Lake Worth\, Fl. 33460\n5:30 p.m. Check-in 6:30 p.m. meeting start’s \nNo cost for meeting\nEveryone will be ordering from the menu and paying for themselves\nRSVP to Pam at pripple@pbacca.org \nWould you like to sponsor a General Meeting?\n$250 Meeting sponsor / spotlight (includes 2 attendees and 5 minute introduction at the podium) \nContact Pam for more information:pripple@pbacca.org or 561-585-3880
URL:https://pbacca.org/event/pbacca-general-meeting/
LOCATION:The Beach Club\, One 7th Avenue North\, Lake Worth\, FL\, 33469\, United States
CATEGORIES:General Meeting
ATTACH;FMTTYPE=image/jpeg:https://pbacca.org/wp-content/uploads/2020/02/pbacca-general-meeting.jpg
ORGANIZER;CN="PBACCA":MAILTO:alexalee@pbacca.org
END:VEVENT
BEGIN:VEVENT
DTSTART;TZID=America/New_York:20230406T173000
DTEND;TZID=America/New_York:20230406T173000
DTSTAMP:20260422T083114
CREATED:20230309T234720Z
LAST-MODIFIED:20230309T234755Z
UID:1132-1680802200-1680802200@pbacca.org
SUMMARY:Member Appreciation Night
DESCRIPTION:“At The Beach Club Tiki\, Lake Worth Beach“\nApril 6\, 2023\n“What can PBACCA do for YOU?” \n…………Music by DJ Tango……… \nWe would like to use the April Meeting to let our Members know how much we value their commitment to OUR Association. \nWe invite all Past\, Present\, and Future Members to an evening of Conversation and Cocktails\n“1/2 price drinks and\, Free appetizers for the evening” \nUse this opportunity to Meet our 2023 Board Members and let them know what you would like them to do for you! \nGREAT Subject\, GREAT Location\, Have a GREAT Time and Socialize\nWith fellow Contractors and Vendors \n………Reservations are required……… \nReservation deadline Monday April 3\, 5:00pm\nThursday\, April 6 “The Beach Club Tiki”\nOne 7th Avenue North\, Lake Worth\, Fl. 33460\n5:30 p.m. Check-in 6:30 p.m. meeting start’s\nCost $25 per person\nRSVP to Pam at pripple@pbacca.org 561-585-3880 \n$500 Appetizer Sponsor_______________\n$250 Cocktail Sponsor-Federated Insurance\n    $200 DJ Sponsor_____________________ \n(Includes 2 attendees and 5 minute introduction at the podium
URL:https://pbacca.org/event/member-appreciation-night/
LOCATION:The Beach Club\, One 7th Avenue North\, Lake Worth\, FL\, 33469\, United States
CATEGORIES:General Meeting
ATTACH;FMTTYPE=image/jpeg:https://pbacca.org/wp-content/uploads/2022/03/the-beach-house-1286x700-1.jpg
ORGANIZER;CN="PBACCA":MAILTO:alexalee@pbacca.org
END:VEVENT
BEGIN:VEVENT
DTSTART;TZID=America/New_York:20221006T183000
DTEND;TZID=America/New_York:20221006T183000
DTSTAMP:20260422T083114
CREATED:20220909T164454Z
LAST-MODIFIED:20220909T165439Z
UID:1024-1665081000-1665081000@pbacca.org
SUMMARY:General Meeting and 8th annual Food Drive
DESCRIPTION:PBACCA General Meeting and 8th annual Food Drive\nReceive one free 50/50 raffle ticket with each food item\nOctober 6\, 2022\n“The Beach Club” in Lake Worth Beach \nProgram Speaker: PZB-Building Division Director Doug Wise \n“What does the future hold for contractors and Permitting Process?”\nDoug has been instrumental in making the process of permitting in the county less\nburdensome by moving the decal program and Video inspections online and hopefully\nmaking it easier for those using the program. He will be going over the online exact\nchange-outs to be “self-issued” by a qualified contractor\,\nand what he thinks the future holds for contractors and permitting.\nWith open discussion and Q&A \nReservations are required\nReservation deadline Monday October 3\, 5:00pm\n\nThursday\, October 6 “The Beach Club”\nOne 7th Avenue North\, Lake Worth\, Fl. 33460\n5:30 p.m. Check-in\, 6:30 p.m. meeting starts\nNo cost for meeting\nEveryone will be ordering from the menu and paying for themselves \nRSVP to Pam at pripple@pbacca.org \nWould you like to sponsor a General Meeting?\n$250 Meeting sponsor / spotlight\n(includes 2 attendees and 5 minute introduction at the podium) \nContact Pam for more information:pripple@pbacca.org or 561-585-3880
URL:https://pbacca.org/event/general-meeting-and-8th-annual-food-drive/
LOCATION:The Beach Club\, One 7th Avenue North\, Lake Worth\, FL\, 33469\, United States
CATEGORIES:General Meeting
ATTACH;FMTTYPE=image/jpeg:https://pbacca.org/wp-content/uploads/2022/03/the-beach-house-1286x700-1.jpg
ORGANIZER;CN="PBACCA":MAILTO:alexalee@pbacca.org
END:VEVENT
BEGIN:VEVENT
DTSTART;TZID=America/New_York:20220407T183000
DTEND;TZID=America/New_York:20220407T213000
DTSTAMP:20260422T083114
CREATED:20220304T165728Z
LAST-MODIFIED:20220304T171638Z
UID:953-1649356200-1649367000@pbacca.org
SUMMARY:General Meeting
DESCRIPTION:We are excited to announce a change in venue. We have chosen the beautiful\n“The Beach Club” in Lake Worth Beach.\nAt their outdoor Tiki. \nProgram Speaker: James Janka \nCarrier Enterprise\nSub-Distribution Business Development \n2023 Regulatory Changes\nOverview of ARI change in how units are rated\, Minimum SEER Requirements\,\nSell through of old product. \nReservations are required\nReservation deadline Monday April 4th\, 5:00pm \nThursday\, April 7th “The Beach Club”\nOne 7th Avenue North\, Lake Worth\, Fl. 33469\n5:30 p.m. Check-in 6:30 p.m. meeting start’s\nNo cost for meeting \nEveryone will be ordering from the menu and paying for themselves\nFax Pam at 561-585-3347 or e-mail pripple@pbacca.org \nRSVP Now\n  \nWould you like to sponsor a General Meeting?\n\n$250 Meeting sponsor / spotlight (includes 2 attendees and 5 minute introduction at the podium) \nContact Pam for more information: pripple@pbacca.org or 561-585-3880
URL:https://pbacca.org/event/general-meeting-3/
LOCATION:The Beach Club\, One 7th Avenue North\, Lake Worth\, FL\, 33469\, United States
CATEGORIES:General Meeting
ATTACH;FMTTYPE=image/jpeg:https://pbacca.org/wp-content/uploads/2022/03/the-beach-house-1286x700-1.jpg
ORGANIZER;CN="PBACCA":MAILTO:alexalee@pbacca.org
END:VEVENT
BEGIN:VEVENT
DTSTART;TZID=America/New_York:20211007T090000
DTEND;TZID=America/New_York:20211007T100000
DTSTAMP:20260422T083114
CREATED:20210813T193428Z
LAST-MODIFIED:20211006T183922Z
UID:845-1633597200-1633600800@pbacca.org
SUMMARY:General Meeting
DESCRIPTION:The Chemours Company\nupdate on changes in Freon and the Phase down of 410A \n9:00 am Zoom with Jeff Warther\, OEM Product Support Manager \nFax Pam at 561-585-3347 or e-mail pripple@pbacca.org
URL:https://pbacca.org/event/general-meeting-2/
LOCATION:Zoom Meeting
CATEGORIES:General Meeting
ATTACH;FMTTYPE=image/jpeg:https://pbacca.org/wp-content/uploads/2019/12/pbacca-500.jpg
ORGANIZER;CN="PBACCA":MAILTO:alexalee@pbacca.org
END:VEVENT
BEGIN:VEVENT
DTSTART;TZID=America/New_York:20201203T180000
DTEND;TZID=America/New_York:20201203T220000
DTSTAMP:20260422T083114
CREATED:20200210T190036Z
LAST-MODIFIED:20201026T180326Z
UID:288-1607018400-1607032800@pbacca.org
SUMMARY:Cancelled - General Meeting - 3nd Annual Casino Night & 9th Annual Toy Drive
DESCRIPTION:Cancelled\n3rd Annual Casino Night & 9th Annual Toy Drive\n2021 Board Election
URL:https://pbacca.org/event/general-meeting-casino-night-toy-drive/
LOCATION:Embassy Suites\, 1601 Belvedere Road\, West Palm Beach\, FL\, United States
CATEGORIES:General Meeting
ATTACH;FMTTYPE=image/jpeg:https://pbacca.org/wp-content/uploads/2020/02/toy-drive.jpg
END:VEVENT
BEGIN:VEVENT
DTSTART;TZID=America/New_York:20201001T180000
DTEND;TZID=America/New_York:20201001T220000
DTSTAMP:20260422T083114
CREATED:20200210T185125Z
LAST-MODIFIED:20200210T190521Z
UID:280-1601575200-1601589600@pbacca.org
SUMMARY:General Meeting - 8th annual food drive
DESCRIPTION:
URL:https://pbacca.org/event/general-meeting-8th-annual-food-drive/
LOCATION:Embassy Suites\, 1601 Belvedere Road\, West Palm Beach\, FL\, United States
CATEGORIES:General Meeting
ATTACH;FMTTYPE=image/jpeg:https://pbacca.org/wp-content/uploads/2020/02/food-drive.jpg
END:VEVENT
BEGIN:VEVENT
DTSTART;TZID=America/New_York:20200805T180000
DTEND;TZID=America/New_York:20200805T220000
DTSTAMP:20260422T083114
CREATED:20200210T184834Z
LAST-MODIFIED:20200210T190751Z
UID:276-1596650400-1596664800@pbacca.org
SUMMARY:General Meeting - Apprenticeship Graduation
DESCRIPTION:
URL:https://pbacca.org/event/general-meeting-apprenticeship-graduation/
LOCATION:Embassy Suites\, 1601 Belvedere Road\, West Palm Beach\, FL\, United States
CATEGORIES:General Meeting
ATTACH;FMTTYPE=image/jpeg:https://pbacca.org/wp-content/uploads/2020/02/apprenticeship-graduation.jpg
END:VEVENT
BEGIN:VEVENT
DTSTART;TZID=America/New_York:20200604T180000
DTEND;TZID=America/New_York:20200604T220000
DTSTAMP:20260422T083114
CREATED:20200210T184116Z
LAST-MODIFIED:20200511T143419Z
UID:269-1591293600-1591308000@pbacca.org
SUMMARY:CANCELED: General Meeting
DESCRIPTION:
URL:https://pbacca.org/event/general-meeting/
LOCATION:Embassy Suites\, 1601 Belvedere Road\, West Palm Beach\, FL\, United States
CATEGORIES:General Meeting
ATTACH;FMTTYPE=image/jpeg:https://pbacca.org/wp-content/uploads/2020/02/pbacca-general-meeting.jpg
END:VEVENT
BEGIN:VEVENT
DTSTART;TZID=America/New_York:20200402T180000
DTEND;TZID=America/New_York:20200402T220000
DTSTAMP:20260422T083114
CREATED:20200210T183732Z
LAST-MODIFIED:20200327T185052Z
UID:263-1585850400-1585864800@pbacca.org
SUMMARY:CANCELLED - General Meeting - Federated Insurance
DESCRIPTION:
URL:https://pbacca.org/event/general-meeting-federated-insurance/
LOCATION:Embassy Suites\, 1601 Belvedere Road\, West Palm Beach\, FL\, United States
CATEGORIES:General Meeting
ATTACH;FMTTYPE=image/jpeg:https://pbacca.org/wp-content/uploads/2020/02/pbacca-general-meeting.jpg
END:VEVENT
BEGIN:VEVENT
DTSTART;TZID=America/New_York:20200206T080000
DTEND;TZID=America/New_York:20200206T170000
DTSTAMP:20260422T083114
CREATED:20200210T182847Z
LAST-MODIFIED:20200210T182925Z
UID:256-1580976000-1581008400@pbacca.org
SUMMARY:General Meeting - Unlicensed Activity & Code Update
DESCRIPTION:
URL:https://pbacca.org/event/general-meeting-unlicensed-activity-code-update/
LOCATION:Embassy Suites\, 1601 Belvedere Road\, West Palm Beach\, FL\, United States
CATEGORIES:General Meeting
END:VEVENT
END:VCALENDAR