BEGIN:VCALENDAR
VERSION:2.0
PRODID:-//PBACCA - ECPv6.15.20//NONSGML v1.0//EN
CALSCALE:GREGORIAN
METHOD:PUBLISH
X-WR-CALNAME:PBACCA
X-ORIGINAL-URL:https://pbacca.org
X-WR-CALDESC:Events for PBACCA
REFRESH-INTERVAL;VALUE=DURATION:PT1H
X-Robots-Tag:noindex
X-PUBLISHED-TTL:PT1H
BEGIN:VTIMEZONE
TZID:America/New_York
BEGIN:DAYLIGHT
TZOFFSETFROM:-0500
TZOFFSETTO:-0400
TZNAME:EDT
DTSTART:20210314T070000
END:DAYLIGHT
BEGIN:STANDARD
TZOFFSETFROM:-0400
TZOFFSETTO:-0500
TZNAME:EST
DTSTART:20211107T060000
END:STANDARD
BEGIN:DAYLIGHT
TZOFFSETFROM:-0500
TZOFFSETTO:-0400
TZNAME:EDT
DTSTART:20220313T070000
END:DAYLIGHT
BEGIN:STANDARD
TZOFFSETFROM:-0400
TZOFFSETTO:-0500
TZNAME:EST
DTSTART:20221106T060000
END:STANDARD
BEGIN:DAYLIGHT
TZOFFSETFROM:-0500
TZOFFSETTO:-0400
TZNAME:EDT
DTSTART:20230312T070000
END:DAYLIGHT
BEGIN:STANDARD
TZOFFSETFROM:-0400
TZOFFSETTO:-0500
TZNAME:EST
DTSTART:20231105T060000
END:STANDARD
BEGIN:DAYLIGHT
TZOFFSETFROM:-0500
TZOFFSETTO:-0400
TZNAME:EDT
DTSTART:20240310T070000
END:DAYLIGHT
BEGIN:STANDARD
TZOFFSETFROM:-0400
TZOFFSETTO:-0500
TZNAME:EST
DTSTART:20241103T060000
END:STANDARD
BEGIN:DAYLIGHT
TZOFFSETFROM:-0500
TZOFFSETTO:-0400
TZNAME:EDT
DTSTART:20250309T070000
END:DAYLIGHT
BEGIN:STANDARD
TZOFFSETFROM:-0400
TZOFFSETTO:-0500
TZNAME:EST
DTSTART:20251102T060000
END:STANDARD
BEGIN:DAYLIGHT
TZOFFSETFROM:-0500
TZOFFSETTO:-0400
TZNAME:EDT
DTSTART:20260308T070000
END:DAYLIGHT
BEGIN:STANDARD
TZOFFSETFROM:-0400
TZOFFSETTO:-0500
TZNAME:EST
DTSTART:20261101T060000
END:STANDARD
END:VTIMEZONE
BEGIN:VEVENT
DTSTART;TZID=America/New_York:20251018T083000
DTEND;TZID=America/New_York:20251018T083000
DTSTAMP:20260422T062132
CREATED:20250815T180733Z
LAST-MODIFIED:20250815T181705Z
UID:1636-1760776200-1760776200@pbacca.org
SUMMARY:23rd Annual Golf Tournament
DESCRIPTION:Click Here to Register and Sponsorship Opportunities\n \n  \nClick Here to Register and Sponsorship Opportunities\n  \n \n  \nClick Here to Register and Sponsorship Opportunities
URL:https://pbacca.org/event/golf-tournament-2025/
LOCATION:Winston Trails Golf Club\, 6101 Winston Trails Blvd\, Lake Worth\, FL\, 33463\, United States
CATEGORIES:Golf Tournament
ATTACH;FMTTYPE=image/jpeg:https://pbacca.org/wp-content/uploads/2024/08/Golf-image-from-unsplash.jpg
ORGANIZER;CN="PBACCA":MAILTO:alexalee@pbacca.org
END:VEVENT
BEGIN:VEVENT
DTSTART;TZID=America/New_York:20241026T083000
DTEND;TZID=America/New_York:20241026T083000
DTSTAMP:20260422T062132
CREATED:20240805T140754Z
LAST-MODIFIED:20240816T161525Z
UID:1457-1729931400-1729931400@pbacca.org
SUMMARY:22nd Annual Golf Tournament
DESCRIPTION:Click Here to Register\nClick for Sponsorship and Volunteer Registration\n \nClick Here to Register\nClick for Sponsorship and Volunteer Registration\n \n  \nClick Here to Register\nClick for Sponsorship and Volunteer Registration
URL:https://pbacca.org/event/22nd-annual-golf-tournament/
LOCATION:Winston Trails Golf Club\, 6101 Winston Trails Blvd\, Lake Worth\, FL\, 33463\, United States
CATEGORIES:Golf Tournament
ATTACH;FMTTYPE=image/jpeg:https://pbacca.org/wp-content/uploads/2024/08/Golf-image-from-unsplash.jpg
ORGANIZER;CN="PBACCA":MAILTO:alexalee@pbacca.org
END:VEVENT
BEGIN:VEVENT
DTSTART;TZID=America/New_York:20231028T083000
DTEND;TZID=America/New_York:20231028T083000
DTSTAMP:20260422T062132
CREATED:20230728T163926Z
LAST-MODIFIED:20240805T143032Z
UID:1208-1698481800-1698481800@pbacca.org
SUMMARY:21st Annual Golf Tournament
DESCRIPTION:  \n\nClick Here to Download Golf Registration and Sponsorship Opportunities
URL:https://pbacca.org/event/21st-annual-golf-tournament/
LOCATION:Winston Trails Golf Club\, 6101 Winston Trails Blvd\, Lake Worth\, FL\, 33463\, United States
CATEGORIES:Golf Tournament
ATTACH;FMTTYPE=image/jpeg:https://pbacca.org/wp-content/uploads/2024/08/Golf-image-from-unsplash.jpg
ORGANIZER;CN="PBACCA":MAILTO:alexalee@pbacca.org
END:VEVENT
BEGIN:VEVENT
DTSTART;VALUE=DATE:20221118
DTEND;VALUE=DATE:20221119
DTSTAMP:20260422T062132
CREATED:20200210T185640Z
LAST-MODIFIED:20240805T143108Z
UID:284-1668729600-1668815999@pbacca.org
SUMMARY:20th Annual Golf Tournament
DESCRIPTION:Palm Beach Air Conditioning Contractors Association is excited to announce that their Twentieth Annual Golf Tournament will be held at the beautiful Wellington National Golf Club\, Wellington\, Florida \nFriday\, November 18 2022\, 1:00 p.m. \nWellington National Golf Club was the proud host of a 2021 Puerto Rico Open Golf Championship Qualifier\, a 2021 Honda Classic Qualifier\, and in 2022 will host a U.S. Open Regional Qualifying site as well. \nWellington National Golf Club is an Exclusive Member’s only golf and country club that features an award-winning golf course Designed by the legendary Johnny Miller. We are truly honored to have them host our 20th  Annual Tournament. \nThe 4-man scramble will start the day with a complimentary Box lunch during check-in (11:30 am check in)\, SHOTGUN START at 1:00 p.m.\, drinks will be provided on the course\, a Barbeque Dinner and award ceremony will immediately follow the tournament at Wellington National Golf Club Ballroom.  Additional Dinner tickets can be purchased from PBACCA.  In addition\, there will be trophies for 1st\, 2nd\, & 3rd place and prizes for the longest drive\, straightest drive\, closest to the pin\, and more! \nSign your team up now!  Treat your friends\, business associates\, or your employees to a day of fun!  It is suggested that you register early because this tournament will be a sell-out with a waiting list. \nClick for Golf Registration form \nClick for Sponsorship and Volunteer form \nContact Pam with any questions regarding the tournament at 561-585-3880 or pripple@pbacca.org
URL:https://pbacca.org/event/20th-annual-golf-tournament/
LOCATION:Wellington National Golf Club\, 400 Binks Forest Dr\,\, Wellington\, FL\, 33414
CATEGORIES:Golf Tournament
ATTACH;FMTTYPE=image/jpeg:https://pbacca.org/wp-content/uploads/2024/08/Golf-image-from-unsplash.jpg
ORGANIZER;CN="PBACCA":MAILTO:alexalee@pbacca.org
END:VEVENT
END:VCALENDAR