BEGIN:VCALENDAR
VERSION:2.0
PRODID:-//PBACCA - ECPv6.15.20//NONSGML v1.0//EN
CALSCALE:GREGORIAN
METHOD:PUBLISH
X-ORIGINAL-URL:https://pbacca.org
X-WR-CALDESC:Events for PBACCA
REFRESH-INTERVAL;VALUE=DURATION:PT1H
X-Robots-Tag:noindex
X-PUBLISHED-TTL:PT1H
BEGIN:VTIMEZONE
TZID:America/New_York
BEGIN:DAYLIGHT
TZOFFSETFROM:-0500
TZOFFSETTO:-0400
TZNAME:EDT
DTSTART:20200308T070000
END:DAYLIGHT
BEGIN:STANDARD
TZOFFSETFROM:-0400
TZOFFSETTO:-0500
TZNAME:EST
DTSTART:20201101T060000
END:STANDARD
BEGIN:DAYLIGHT
TZOFFSETFROM:-0500
TZOFFSETTO:-0400
TZNAME:EDT
DTSTART:20210314T070000
END:DAYLIGHT
BEGIN:STANDARD
TZOFFSETFROM:-0400
TZOFFSETTO:-0500
TZNAME:EST
DTSTART:20211107T060000
END:STANDARD
BEGIN:DAYLIGHT
TZOFFSETFROM:-0500
TZOFFSETTO:-0400
TZNAME:EDT
DTSTART:20220313T070000
END:DAYLIGHT
BEGIN:STANDARD
TZOFFSETFROM:-0400
TZOFFSETTO:-0500
TZNAME:EST
DTSTART:20221106T060000
END:STANDARD
END:VTIMEZONE
BEGIN:VEVENT
DTSTART;TZID=America/New_York:20211005T000000
DTEND;TZID=America/New_York:20211007T000000
DTSTAMP:20260422T165814
CREATED:20210810T183725Z
LAST-MODIFIED:20210810T183825Z
UID:692-1633392000-1633564800@pbacca.org
SUMMARY:Fall Auction
DESCRIPTION:Please consider supporting PBACCA in our upcoming Fall Auction!\nOctober 5th-7th 2021 \nWe would greatly appreciate you supporting our efforts to engage contractors creatively due to the continued limitation of in-person events. Your support helps us continue to work on  issues that affect us all in our trade. \nStarting Tuesday 10/5 and running through Thursday 10/7\, we will be hosting an online auction where licensed contractors will have an opportunity to bid on items  unrelated to the HVAC Industry. This auction will start online on October 5th and conclude LIVE at our October General Meeting on October 7th. \nWe are asking for your help with donations to auction such as recreational items\, gift certificates\, sporting (or event) tickets\, you name it! \n\nAny donation valued from $10 -$100 will receive 1/4 page ad Free for 1 month in The Plenum\nAny donation valued from $100 -$500 will receive 1/4 page for 3 months in The Plenum\nAny donation valued $500 or more will receive a discount towards the golf tournament or choice of participation in a future event.\n\nPlease contact Pam at pripple@pbacca or 561-585-3880. Thank you!
URL:https://pbacca.org/event/fall-auction/
CATEGORIES:Online Auction
ATTACH;FMTTYPE=image/jpeg:https://pbacca.org/wp-content/uploads/2021/08/online-auction.jpg
END:VEVENT
BEGIN:VEVENT
DTSTART;VALUE=DATE:20210525
DTEND;VALUE=DATE:20210528
DTSTAMP:20260422T165814
CREATED:20210412T145902Z
LAST-MODIFIED:20210412T150358Z
UID:693-1621900800-1622159999@pbacca.org
SUMMARY:Silent Auction
DESCRIPTION:PBACCA is asking for your help with Donated items for our Second Silent Auction\nStarting Tuesday 5/25 and running through Thursday 5/27\, we will be hosting a Silent Auction where members and friends will have an opportunity to bid on items unrelated to the HVAC industry. \nWe are asking for your help with donations\, such as gift certificates to stores\, restaurants\, spas\, sporting events and gold courses.  We would also like any items such as gift baskets\, art work\, electronics\, and signed memorabilia.  The options are limitless and nothing is too small. \n\nAny donation valued from $10 – $100 will receive 1/2 page ad Free for 1 month in The Plenum\nAny donation valued from $100 – $500 will receive 1/2 page ad Free for 3 months in The Plenum\nAny donation valued $500 or more\, will receive 1 Free boat registration to HEFS 2021 tournament\, that will be held on June 12th 2021.\n\nPlease contact Pam at pripple@pbacca or 561-585-3880 with any questions.
URL:https://pbacca.org/event/silent-auction/
CATEGORIES:Online Auction
ATTACH;FMTTYPE=image/jpeg:https://pbacca.org/wp-content/uploads/2021/04/hedgehog-digital-Dg6vaA8_kXk-unsplash.jpg
ORGANIZER;CN="PBACCA":MAILTO:alexalee@pbacca.org
END:VEVENT
END:VCALENDAR